BEGIN:VCALENDAR
VERSION:2.0
PRODID:-//Ammerländer Reitclub - ECPv6.15.16//NONSGML v1.0//EN
CALSCALE:GREGORIAN
METHOD:PUBLISH
X-WR-CALNAME:Ammerländer Reitclub
X-ORIGINAL-URL:https://ammerlaenderreitclub.de
X-WR-CALDESC:Veranstaltungen für Ammerländer Reitclub
REFRESH-INTERVAL;VALUE=DURATION:PT1H
X-Robots-Tag:noindex
X-PUBLISHED-TTL:PT1H
BEGIN:VTIMEZONE
TZID:Europe/Berlin
BEGIN:DAYLIGHT
TZOFFSETFROM:+0100
TZOFFSETTO:+0200
TZNAME:CEST
DTSTART:20250330T010000
END:DAYLIGHT
BEGIN:STANDARD
TZOFFSETFROM:+0200
TZOFFSETTO:+0100
TZNAME:CET
DTSTART:20251026T010000
END:STANDARD
BEGIN:DAYLIGHT
TZOFFSETFROM:+0100
TZOFFSETTO:+0200
TZNAME:CEST
DTSTART:20260329T010000
END:DAYLIGHT
BEGIN:STANDARD
TZOFFSETFROM:+0200
TZOFFSETTO:+0100
TZNAME:CET
DTSTART:20261025T010000
END:STANDARD
BEGIN:DAYLIGHT
TZOFFSETFROM:+0100
TZOFFSETTO:+0200
TZNAME:CEST
DTSTART:20270328T010000
END:DAYLIGHT
BEGIN:STANDARD
TZOFFSETFROM:+0200
TZOFFSETTO:+0100
TZNAME:CET
DTSTART:20271031T010000
END:STANDARD
END:VTIMEZONE
BEGIN:VEVENT
DTSTART;VALUE=DATE:20260611
DTEND;VALUE=DATE:20260615
DTSTAMP:20260419T181222
CREATED:20260120T223047Z
LAST-MODIFIED:20260120T223047Z
UID:4712-1781136000-1781481599@ammerlaenderreitclub.de
SUMMARY:Horse Trials Westerstede
DESCRIPTION:Horse Trials Westerstede – Internat. Vielseitigkeit\n+ VA-Kreismeisterschaft und -Landesmeisterschaft\n+ IGV Cup
URL:https://ammerlaenderreitclub.de/event/horse-trials-westerstede-2/
END:VEVENT
BEGIN:VEVENT
DTSTART;VALUE=DATE:20260620
DTEND;VALUE=DATE:20260622
DTSTAMP:20260419T181222
CREATED:20260120T223124Z
LAST-MODIFIED:20260120T223124Z
UID:4714-1781913600-1782086399@ammerlaenderreitclub.de
SUMMARY:Springturnier bis M*
DESCRIPTION:
URL:https://ammerlaenderreitclub.de/event/springturnier-bis-m/
END:VEVENT
BEGIN:VEVENT
DTSTART;VALUE=DATE:20260624
DTEND;VALUE=DATE:20260625
DTSTAMP:20260419T181222
CREATED:20260120T223204Z
LAST-MODIFIED:20260120T223204Z
UID:4716-1782259200-1782345599@ammerlaenderreitclub.de
SUMMARY:Geländepferdeprüfungen
DESCRIPTION:Geländepferdeprüfungen von Kl. E bis Kl. L
URL:https://ammerlaenderreitclub.de/event/gelaendepferdepruefungen/
END:VEVENT
BEGIN:VEVENT
DTSTART;VALUE=DATE:20260625
DTEND;VALUE=DATE:20260626
DTSTAMP:20260419T181222
CREATED:20260120T223231Z
LAST-MODIFIED:20260120T223231Z
UID:4718-1782345600-1782431999@ammerlaenderreitclub.de
SUMMARY:Fohlenbrennen
DESCRIPTION:
URL:https://ammerlaenderreitclub.de/event/fohlenbrennen/
END:VEVENT
BEGIN:VEVENT
DTSTART;VALUE=DATE:20260704
DTEND;VALUE=DATE:20260706
DTSTAMP:20260419T181222
CREATED:20260120T223316Z
LAST-MODIFIED:20260120T223331Z
UID:4720-1783123200-1783295999@ammerlaenderreitclub.de
SUMMARY:Dressurturnier
DESCRIPTION:Dressurturnier bis M*
URL:https://ammerlaenderreitclub.de/event/dressurturnie/
END:VEVENT
END:VCALENDAR