BEGIN:VCALENDAR
VERSION:2.0
PRODID:-//Ammerländer Reitclub - ECPv6.15.16//NONSGML v1.0//EN
CALSCALE:GREGORIAN
METHOD:PUBLISH
X-WR-CALNAME:Ammerländer Reitclub
X-ORIGINAL-URL:https://ammerlaenderreitclub.de
X-WR-CALDESC:Veranstaltungen für Ammerländer Reitclub
REFRESH-INTERVAL;VALUE=DURATION:PT1H
X-Robots-Tag:noindex
X-PUBLISHED-TTL:PT1H
BEGIN:VTIMEZONE
TZID:Europe/Berlin
BEGIN:DAYLIGHT
TZOFFSETFROM:+0100
TZOFFSETTO:+0200
TZNAME:CEST
DTSTART:20230326T010000
END:DAYLIGHT
BEGIN:STANDARD
TZOFFSETFROM:+0200
TZOFFSETTO:+0100
TZNAME:CET
DTSTART:20231029T010000
END:STANDARD
BEGIN:DAYLIGHT
TZOFFSETFROM:+0100
TZOFFSETTO:+0200
TZNAME:CEST
DTSTART:20240331T010000
END:DAYLIGHT
BEGIN:STANDARD
TZOFFSETFROM:+0200
TZOFFSETTO:+0100
TZNAME:CET
DTSTART:20241027T010000
END:STANDARD
BEGIN:DAYLIGHT
TZOFFSETFROM:+0100
TZOFFSETTO:+0200
TZNAME:CEST
DTSTART:20250330T010000
END:DAYLIGHT
BEGIN:STANDARD
TZOFFSETFROM:+0200
TZOFFSETTO:+0100
TZNAME:CET
DTSTART:20251026T010000
END:STANDARD
END:VTIMEZONE
BEGIN:VEVENT
DTSTART;TZID=Europe/Berlin:20241026T100000
DTEND;TZID=Europe/Berlin:20241026T150000
DTSTAMP:20260421T155207
CREATED:20241017T092114Z
LAST-MODIFIED:20241017T092541Z
UID:4486-1729936800-1729954800@ammerlaenderreitclub.de
SUMMARY:ARC Termine
DESCRIPTION:Hier werden ab demnächst alle Veranstaltungen für euch eingetragen. Damit ihr immer einen Überblick habt.
URL:https://ammerlaenderreitclub.de/event/arc-termine/
END:VEVENT
END:VCALENDAR